BEGIN:VCALENDAR
VERSION:2.0
PRODID:-//Musikfabrik Steinfurt - ECPv6.3.7//NONSGML v1.0//EN
CALSCALE:GREGORIAN
METHOD:PUBLISH
X-ORIGINAL-URL:https://musikfabrik-steinfurt.de
X-WR-CALDESC:Veranstaltungen für Musikfabrik Steinfurt
REFRESH-INTERVAL;VALUE=DURATION:PT1H
X-Robots-Tag:noindex
X-PUBLISHED-TTL:PT1H
BEGIN:VTIMEZONE
TZID:Europe/Paris
BEGIN:DAYLIGHT
TZOFFSETFROM:+0100
TZOFFSETTO:+0200
TZNAME:CEST
DTSTART:20230326T010000
END:DAYLIGHT
BEGIN:STANDARD
TZOFFSETFROM:+0200
TZOFFSETTO:+0100
TZNAME:CET
DTSTART:20231029T010000
END:STANDARD
END:VTIMEZONE
BEGIN:VEVENT
DTSTART;TZID=Europe/Paris:20230902T194500
DTEND;TZID=Europe/Paris:20230902T203000
DTSTAMP:20260424T192052
CREATED:20230831T135235Z
LAST-MODIFIED:20230831T140232Z
UID:4040-1693683900-1693686600@musikfabrik-steinfurt.de
SUMMARY:Hofkonzert mit "Ochester Starter" in Metelen
DESCRIPTION:Hofkonzert mit Bands der Extraklasse
URL:https://musikfabrik-steinfurt.de/event/hofkonzert-mit-ochester-starter-in-metelen
LOCATION:Hof Konert\, Naendorf 1\, Metelen\, 48621\, Deutschland
END:VEVENT
END:VCALENDAR