BEGIN:VCALENDAR
VERSION:2.0
PRODID:-//Musikfabrik Steinfurt - ECPv6.3.7//NONSGML v1.0//EN
CALSCALE:GREGORIAN
METHOD:PUBLISH
X-ORIGINAL-URL:https://musikfabrik-steinfurt.de
X-WR-CALDESC:Veranstaltungen für Musikfabrik Steinfurt
REFRESH-INTERVAL;VALUE=DURATION:PT1H
X-Robots-Tag:noindex
X-PUBLISHED-TTL:PT1H
BEGIN:VTIMEZONE
TZID:Europe/Paris
BEGIN:DAYLIGHT
TZOFFSETFROM:+0100
TZOFFSETTO:+0200
TZNAME:CEST
DTSTART:20230326T010000
END:DAYLIGHT
BEGIN:STANDARD
TZOFFSETFROM:+0200
TZOFFSETTO:+0100
TZNAME:CET
DTSTART:20231029T010000
END:STANDARD
END:VTIMEZONE
BEGIN:VEVENT
DTSTART;TZID=Europe/Paris:20231209T190000
DTEND;TZID=Europe/Paris:20231209T220000
DTSTAMP:20260424T150845
CREATED:20230907T141356Z
LAST-MODIFIED:20230907T143805Z
UID:4065-1702148400-1702159200@musikfabrik-steinfurt.de
SUMMARY:Bei Mara unterm Baum
DESCRIPTION:Save the Date… \n… für Maras beliebtes musikalisches Weihnachtsevent.
URL:https://musikfabrik-steinfurt.de/event/bei-mara-unterm-baum-2
LOCATION:Musikfabrik Steinfurt\, Gantenstraße 19\, Steinfurt\, Nordrhein Westfalen\, 48565\, Deutschland
ORGANIZER;CN="Musikfabrik Steinfurt e.V.":MAILTO:info@musikfabrik-steinfurt.de
END:VEVENT
END:VCALENDAR