BEGIN:VCALENDAR
VERSION:2.0
PRODID:-//Musikfabrik Steinfurt - ECPv6.3.7//NONSGML v1.0//EN
CALSCALE:GREGORIAN
METHOD:PUBLISH
X-WR-CALNAME:Musikfabrik Steinfurt
X-ORIGINAL-URL:https://musikfabrik-steinfurt.de
X-WR-CALDESC:Veranstaltungen für Musikfabrik Steinfurt
REFRESH-INTERVAL;VALUE=DURATION:PT1H
X-Robots-Tag:noindex
X-PUBLISHED-TTL:PT1H
BEGIN:VTIMEZONE
TZID:Europe/Paris
BEGIN:DAYLIGHT
TZOFFSETFROM:+0100
TZOFFSETTO:+0200
TZNAME:CEST
DTSTART:20230326T010000
END:DAYLIGHT
BEGIN:STANDARD
TZOFFSETFROM:+0200
TZOFFSETTO:+0100
TZNAME:CET
DTSTART:20231029T010000
END:STANDARD
END:VTIMEZONE
BEGIN:VEVENT
DTSTART;TZID=Europe/Paris:20231211T170000
DTEND;TZID=Europe/Paris:20231215T190000
DTSTAMP:20260424T150342
CREATED:20231207T133317Z
LAST-MODIFIED:20231207T133317Z
UID:4427-1702314000-1702666800@musikfabrik-steinfurt.de
SUMMARY:Weihnachtsvorspielwoche der Schülerinnen und Schüler der Musikfabrik
DESCRIPTION:Vorweihnachtliche\, stimmungsvolle Musikbeiträge unserer Schülerinnen und Schüler in verschiedenen abwechslungsreichen Musikvorspielen für Eltern\, Freunde\, Verwandte. \nDer Eintritt ist frei. \nVorspielwoche Winter 2023 Zeitplan
URL:https://musikfabrik-steinfurt.de/event/weihnachtsvorspielwoche-der-schuelerinnen-und-schueler-der-musikfabrik
LOCATION:Musikfabrik Steinfurt\, Gantenstraße 19\, Steinfurt\, Nordrhein Westfalen\, 48565\, Deutschland
ORGANIZER;CN="Musikfabrik Steinfurt e.V.":MAILTO:info@musikfabrik-steinfurt.de
END:VEVENT
END:VCALENDAR