BEGIN:VCALENDAR
VERSION:2.0
PRODID:-//Musikfabrik Steinfurt - ECPv6.3.7//NONSGML v1.0//EN
CALSCALE:GREGORIAN
METHOD:PUBLISH
X-WR-CALNAME:Musikfabrik Steinfurt
X-ORIGINAL-URL:https://musikfabrik-steinfurt.de
X-WR-CALDESC:Veranstaltungen für Musikfabrik Steinfurt
REFRESH-INTERVAL;VALUE=DURATION:PT1H
X-Robots-Tag:noindex
X-PUBLISHED-TTL:PT1H
BEGIN:VTIMEZONE
TZID:Europe/Paris
BEGIN:DAYLIGHT
TZOFFSETFROM:+0100
TZOFFSETTO:+0200
TZNAME:CEST
DTSTART:20230326T010000
END:DAYLIGHT
BEGIN:STANDARD
TZOFFSETFROM:+0200
TZOFFSETTO:+0100
TZNAME:CET
DTSTART:20231029T010000
END:STANDARD
END:VTIMEZONE
BEGIN:VEVENT
DTSTART;TZID=Europe/Paris:20231217T190000
DTEND;TZID=Europe/Paris:20231217T210000
DTSTAMP:20260424T150332
CREATED:20230907T142349Z
LAST-MODIFIED:20231214T081740Z
UID:4071-1702839600-1702846800@musikfabrik-steinfurt.de
SUMMARY:Weihnachtskonzert: MuFa Orchester und Chor Cantata fällt aus
DESCRIPTION:Unser gemeinschaftliches Weihnachtskonzert fällt leider krankheitsbedingt aus.
URL:https://musikfabrik-steinfurt.de/event/weihnachtskonzert-mufa-orchester-und-chor-cantata
LOCATION:Kirche St. Johannes Nepumuk\, Friedhof 4\, Burgsteinfurt\, 48565
END:VEVENT
END:VCALENDAR