BEGIN:VCALENDAR
VERSION:2.0
PRODID:-//Musikfabrik Steinfurt - ECPv6.3.7//NONSGML v1.0//EN
CALSCALE:GREGORIAN
METHOD:PUBLISH
X-WR-CALNAME:Musikfabrik Steinfurt
X-ORIGINAL-URL:https://musikfabrik-steinfurt.de
X-WR-CALDESC:Veranstaltungen für Musikfabrik Steinfurt
REFRESH-INTERVAL;VALUE=DURATION:PT1H
X-Robots-Tag:noindex
X-PUBLISHED-TTL:PT1H
BEGIN:VTIMEZONE
TZID:Europe/Paris
BEGIN:DAYLIGHT
TZOFFSETFROM:+0100
TZOFFSETTO:+0200
TZNAME:CEST
DTSTART:20240331T010000
END:DAYLIGHT
BEGIN:STANDARD
TZOFFSETFROM:+0200
TZOFFSETTO:+0100
TZNAME:CET
DTSTART:20241027T010000
END:STANDARD
END:VTIMEZONE
BEGIN:VEVENT
DTSTART;TZID=Europe/Paris:20240427T190000
DTEND;TZID=Europe/Paris:20240427T220000
DTSTAMP:20260422T185002
CREATED:20240415T143956Z
LAST-MODIFIED:20240415T143956Z
UID:12463-1714244400-1714255200@musikfabrik-steinfurt.de
SUMMARY:Band Session #9
DESCRIPTION:Gleich 2 Bands teilen sich bei diesem Gig die Bühne in der Musikfabrik! \n„Tiger Birds“\, eine junge Rock/Pop Formation und erneut: \n„All Aboard“\, die ESC Tribute Band mit einem stimmungsvollen\, bunten und abwechslungsreichen Mix durch das vergangene und aktuelle ESC Song Programm. \nEs wird wieder SUPER! \nEintritt frei
URL:https://musikfabrik-steinfurt.de/event/band-session-9
LOCATION:Musikfabrik Steinfurt\, Gantenstraße 19\, Steinfurt\, Nordrhein Westfalen\, 48565\, Deutschland
END:VEVENT
END:VCALENDAR