BEGIN:VCALENDAR
VERSION:2.0
PRODID:-//Musikfabrik Steinfurt - ECPv6.3.7//NONSGML v1.0//EN
CALSCALE:GREGORIAN
METHOD:PUBLISH
X-WR-CALNAME:Musikfabrik Steinfurt
X-ORIGINAL-URL:https://musikfabrik-steinfurt.de
X-WR-CALDESC:Veranstaltungen für Musikfabrik Steinfurt
REFRESH-INTERVAL;VALUE=DURATION:PT1H
X-Robots-Tag:noindex
X-PUBLISHED-TTL:PT1H
BEGIN:VTIMEZONE
TZID:Europe/Paris
BEGIN:DAYLIGHT
TZOFFSETFROM:+0100
TZOFFSETTO:+0200
TZNAME:CEST
DTSTART:20240331T010000
END:DAYLIGHT
BEGIN:STANDARD
TZOFFSETFROM:+0200
TZOFFSETTO:+0100
TZNAME:CET
DTSTART:20241027T010000
END:STANDARD
END:VTIMEZONE
BEGIN:VEVENT
DTSTART;TZID=Europe/Paris:20240526T110000
DTEND;TZID=Europe/Paris:20240526T180000
DTSTAMP:20260421T095635
CREATED:20240516T155351Z
LAST-MODIFIED:20240516T155351Z
UID:12497-1716721200-1716746400@musikfabrik-steinfurt.de
SUMMARY:Musik Sommer - Der Sonntag
DESCRIPTION:Es geht weiter mit dem MuFa Orchester und den Bands „Humming Bird“ und „Tiger Birds“. \nFrühschoppen und Kaffenachmittag vor der großen Bühne auf dem Platz „Auf dem Schilde“.
URL:https://musikfabrik-steinfurt.de/event/musik-sommer-der-sonntag
LOCATION:Platz auf dem Schilde\, Münsterstraße 30\, Steinfurt\, NRW\, 48565\, Deutschland
END:VEVENT
END:VCALENDAR