BEGIN:VCALENDAR
VERSION:2.0
PRODID:-//Musikfabrik Steinfurt - ECPv6.3.7//NONSGML v1.0//EN
CALSCALE:GREGORIAN
METHOD:PUBLISH
X-WR-CALNAME:Musikfabrik Steinfurt
X-ORIGINAL-URL:https://musikfabrik-steinfurt.de
X-WR-CALDESC:Veranstaltungen für Musikfabrik Steinfurt
REFRESH-INTERVAL;VALUE=DURATION:PT1H
X-Robots-Tag:noindex
X-PUBLISHED-TTL:PT1H
BEGIN:VTIMEZONE
TZID:Europe/Paris
BEGIN:DAYLIGHT
TZOFFSETFROM:+0100
TZOFFSETTO:+0200
TZNAME:CEST
DTSTART:20240331T010000
END:DAYLIGHT
BEGIN:STANDARD
TZOFFSETFROM:+0200
TZOFFSETTO:+0100
TZNAME:CET
DTSTART:20241027T010000
END:STANDARD
END:VTIMEZONE
BEGIN:VEVENT
DTSTART;TZID=Europe/Paris:20240601T210000
DTEND;TZID=Europe/Paris:20240601T233000
DTSTAMP:20260421T001645
CREATED:20240122T142716Z
LAST-MODIFIED:20240122T142716Z
UID:4524-1717275600-1717284600@musikfabrik-steinfurt.de
SUMMARY:HOT JAZZ CLUB
DESCRIPTION:MuFa Big Band im Hot Jazz Club in Münster am Hafen. \nSichere dir rechtzeitig dein Ticket!!!
URL:https://musikfabrik-steinfurt.de/event/hot-jazz-club
LOCATION:Hot Jazz Club\, Hafenweg 26 b\, Münster\, 48155
END:VEVENT
END:VCALENDAR