BEGIN:VCALENDAR
VERSION:2.0
PRODID:-//Musikfabrik Steinfurt - ECPv6.3.7//NONSGML v1.0//EN
CALSCALE:GREGORIAN
METHOD:PUBLISH
X-WR-CALNAME:Musikfabrik Steinfurt
X-ORIGINAL-URL:https://musikfabrik-steinfurt.de
X-WR-CALDESC:Veranstaltungen für Musikfabrik Steinfurt
REFRESH-INTERVAL;VALUE=DURATION:PT1H
X-Robots-Tag:noindex
X-PUBLISHED-TTL:PT1H
BEGIN:VTIMEZONE
TZID:Europe/Paris
BEGIN:DAYLIGHT
TZOFFSETFROM:+0100
TZOFFSETTO:+0200
TZNAME:CEST
DTSTART:20240331T010000
END:DAYLIGHT
BEGIN:STANDARD
TZOFFSETFROM:+0200
TZOFFSETTO:+0100
TZNAME:CET
DTSTART:20241027T010000
END:STANDARD
END:VTIMEZONE
BEGIN:VEVENT
DTSTART;TZID=Europe/Paris:20240713T190000
DTEND;TZID=Europe/Paris:20240713T220000
DTSTAMP:20260420T230327
CREATED:20240122T143730Z
LAST-MODIFIED:20240122T143730Z
UID:4530-1720897200-1720908000@musikfabrik-steinfurt.de
SUMMARY:BIG BAND BARBECUE #5
DESCRIPTION:Am alten Horstmarer Bahnhof unterhält die Big Band „angereiste“ Zuschauer mit ihrem abwechslungsreichen Programm. Die Gastronomen am Bahnhof sorgen für Snacks und Getränke!
URL:https://musikfabrik-steinfurt.de/event/big-band-barbecue-5
LOCATION:Bahnhof Horstmar\, Am Bahnhof 39\, Horstmar\, 48612\, Deutschland
END:VEVENT
END:VCALENDAR