BEGIN:VCALENDAR
VERSION:2.0
PRODID:-//Musikfabrik Steinfurt - ECPv6.3.7//NONSGML v1.0//EN
CALSCALE:GREGORIAN
METHOD:PUBLISH
X-WR-CALNAME:Musikfabrik Steinfurt
X-ORIGINAL-URL:https://musikfabrik-steinfurt.de
X-WR-CALDESC:Veranstaltungen für Musikfabrik Steinfurt
REFRESH-INTERVAL;VALUE=DURATION:PT1H
X-Robots-Tag:noindex
X-PUBLISHED-TTL:PT1H
BEGIN:VTIMEZONE
TZID:Europe/Paris
BEGIN:DAYLIGHT
TZOFFSETFROM:+0100
TZOFFSETTO:+0200
TZNAME:CEST
DTSTART:20260329T010000
END:DAYLIGHT
BEGIN:STANDARD
TZOFFSETFROM:+0200
TZOFFSETTO:+0100
TZNAME:CET
DTSTART:20261025T010000
END:STANDARD
END:VTIMEZONE
BEGIN:VEVENT
DTSTART;TZID=Europe/Paris:20260509T190000
DTEND;TZID=Europe/Paris:20260509T220000
DTSTAMP:20260424T130633
CREATED:20260424T092816Z
LAST-MODIFIED:20260424T092816Z
UID:13201-1778353200-1778364000@musikfabrik-steinfurt.de
SUMMARY:ESC Session in der Musikfabrik
DESCRIPTION:Dieses Mal teilen sich wieder 2 Bands die Studio Bühne in der Musikfabrik Steinfurt:  \n\n\n\n\n\n\n\n\n„Code Zero“ – Diese junge Rock Cover Formation aus Steinfurt ist erstmalig bei unserer kleinen Konzertreihe dabei. Wir freuen uns darauf! \n„All Aboard“ – A Tribute to the Eurovision Song Contest. Mittlerweile schon praktisch zur Institution geworden\, bittet die ESC Band bereits zum 6.Mal zur Session. Ein toller\, bunter und abwechslungsreicher Mix durch das vielfältige Programm des Eurovision Song Contests. Freut Euch erneut auf ein abwechlungsreiches und buntes Konzert … \nDer Eintritt ist frei!
URL:https://musikfabrik-steinfurt.de/event/esc-session-in-der-musikfabrik
LOCATION:Musikfabrik Steinfurt\, Gantenstraße 19\, Steinfurt\, Nordrhein Westfalen\, 48565\, Deutschland
CATEGORIES:Konzert
ATTACH;FMTTYPE=image/jpeg:https://musikfabrik-steinfurt.de/wp-content/uploads/2026/04/IMG_0040.jpeg
END:VEVENT
BEGIN:VEVENT
DTSTART;TZID=Europe/Paris:20260529T193000
DTEND;TZID=Europe/Paris:20260531T183000
DTSTAMP:20260424T130633
CREATED:20260424T094008Z
LAST-MODIFIED:20260424T100432Z
UID:13205-1780083000-1780252200@musikfabrik-steinfurt.de
SUMMARY:Musik Sommer 2026 - Open Air
DESCRIPTION:Bald ist es wieder so weit: unsere erfolgreiche Veranstaltung „Musik Sommer 2026“ geht in die nächste Runde – 3 Tage mit Musik-Events\, gutem Essen und natürlich kühlen Getränken. \nAuf einer großen\, überdachten Bühne wird wieder die „MuFa Big Band“\, die ESC Tribute Band „All Aboard“ und das „MuFa Orchester für die musikalische Unterhaltung sorgen. Dieses Mal wieder mit mit „rockiger“ Verstärkung am ersten Abend…. \nSnacks\, Getränke\, Biergarten\, Wein\, Café\, etc. präsentiert Euch das „Café Schuster“. \nDer Eintritt ist wie immer frei ! Wir freuen uns auf Euch!
URL:https://musikfabrik-steinfurt.de/event/musik-sommer-2026-open-air
LOCATION:Platz auf dem Schilde\, Münsterstraße 30\, Steinfurt\, NRW\, 48565\, Deutschland
CATEGORIES:Konzert
ATTACH;FMTTYPE=image/jpeg:https://musikfabrik-steinfurt.de/wp-content/uploads/2026/04/IMG_8033.jpeg
ORGANIZER;CN="Musikfabrik Steinfurt e.V.":MAILTO:info@musikfabrik-steinfurt.de
END:VEVENT
END:VCALENDAR