BEGIN:VCALENDAR
VERSION:2.0
PRODID:-//Musikfabrik Steinfurt - ECPv6.3.7//NONSGML v1.0//EN
CALSCALE:GREGORIAN
METHOD:PUBLISH
X-WR-CALNAME:Musikfabrik Steinfurt
X-ORIGINAL-URL:https://musikfabrik-steinfurt.de
X-WR-CALDESC:Veranstaltungen für Musikfabrik Steinfurt
REFRESH-INTERVAL;VALUE=DURATION:PT1H
X-Robots-Tag:noindex
X-PUBLISHED-TTL:PT1H
BEGIN:VTIMEZONE
TZID:Europe/Paris
BEGIN:DAYLIGHT
TZOFFSETFROM:+0100
TZOFFSETTO:+0200
TZNAME:CEST
DTSTART:20250330T010000
END:DAYLIGHT
BEGIN:STANDARD
TZOFFSETFROM:+0200
TZOFFSETTO:+0100
TZNAME:CET
DTSTART:20251026T010000
END:STANDARD
END:VTIMEZONE
BEGIN:VEVENT
DTSTART;TZID=Europe/Paris:20250322T190000
DTEND;TZID=Europe/Paris:20250322T220000
DTSTAMP:20260420T114550
CREATED:20250210T155753Z
LAST-MODIFIED:20250213T154336Z
UID:12638-1742670000-1742680800@musikfabrik-steinfurt.de
SUMMARY:Band Session #10
DESCRIPTION:in unserer Musikfabrik Steinfurt: \nTrailer \nDer Eintritt ist wie immer frei für unsere spannenden Rock Konzerte unserer MuFa Bühne. \nDiesmal mit: \nGenBluez \nDark Resonance \nund der \nWilhelm Dröhn Band \n 
URL:https://musikfabrik-steinfurt.de/event/band-session-10
LOCATION:Musikfabrik Steinfurt\, Gantenstraße 19\, Steinfurt\, Nordrhein Westfalen\, 48565\, Deutschland
ATTACH;FMTTYPE=image/png:https://musikfabrik-steinfurt.de/wp-content/uploads/2025/02/2bab0fbb75833014355faf47a07d8d8945f1ee92_w400.png
END:VEVENT
END:VCALENDAR