BEGIN:VCALENDAR
VERSION:2.0
PRODID:-//Musikfabrik Steinfurt - ECPv6.3.7//NONSGML v1.0//EN
CALSCALE:GREGORIAN
METHOD:PUBLISH
X-ORIGINAL-URL:https://musikfabrik-steinfurt.de
X-WR-CALDESC:Veranstaltungen für Musikfabrik Steinfurt
REFRESH-INTERVAL;VALUE=DURATION:PT1H
X-Robots-Tag:noindex
X-PUBLISHED-TTL:PT1H
BEGIN:VTIMEZONE
TZID:Europe/Paris
BEGIN:DAYLIGHT
TZOFFSETFROM:+0100
TZOFFSETTO:+0200
TZNAME:CEST
DTSTART:20250330T010000
END:DAYLIGHT
BEGIN:STANDARD
TZOFFSETFROM:+0200
TZOFFSETTO:+0100
TZNAME:CET
DTSTART:20251026T010000
END:STANDARD
END:VTIMEZONE
BEGIN:VEVENT
DTSTART;TZID=Europe/Paris:20250402T193000
DTEND;TZID=Europe/Paris:20250402T213000
DTSTAMP:20260420T103259
CREATED:20250210T162529Z
LAST-MODIFIED:20250213T154643Z
UID:12644-1743622200-1743629400@musikfabrik-steinfurt.de
SUMMARY:Vollversammlung der Mitglieder
DESCRIPTION:Ihr seid herzlich eingeladen. \nViele Infos erwarten euch\, Getränke gibt es dazu und bei unseren Wahlen könnt ihr eure Stimme abgeben.
URL:https://musikfabrik-steinfurt.de/event/vollversammlung-der-mitglieder-2
LOCATION:MuFa-Cafe Musikfabrik Steinfurt\, Gantenstraße 19\, Steinfurt\, 48565\, Deutschland
ATTACH;FMTTYPE=image/jpeg:https://musikfabrik-steinfurt.de/wp-content/uploads/2025/02/Vorstand-2024-scaled.jpeg
ORGANIZER;CN="Musikfabrik Steinfurt e.V.":MAILTO:info@musikfabrik-steinfurt.de
END:VEVENT
END:VCALENDAR